BEGIN:VCALENDAR
VERSION:2.0
PRODID:-//Jewish  Foundation - ECPv5.14.1//NONSGML v1.0//EN
CALSCALE:GREGORIAN
METHOD:PUBLISH
X-WR-CALNAME:Jewish  Foundation
X-ORIGINAL-URL:https://pajewishendowment.org/en
X-WR-CALDESC:Events for Jewish  Foundation
BEGIN:VTIMEZONE
TZID:UTC
BEGIN:STANDARD
TZOFFSETFROM:+0000
TZOFFSETTO:+0000
TZNAME:UTC
DTSTART:20170101T000000
END:STANDARD
END:VTIMEZONE
BEGIN:VEVENT
DTSTART;TZID=UTC:20170502T173000
DTEND;TZID=UTC:20170502T233000
DTSTAMP:20260425T214728
CREATED:20170327T073005Z
LAST-MODIFIED:20170327T073005Z
UID:1425-1493746200-1493767800@pajewishendowment.org
SUMMARY:Annual Donor Recognition Dinner Taste of Israeli
DESCRIPTION:
URL:https://pajewishendowment.org/en/event/annual-donor-recognition-dinner-taste-of-israeli/
LOCATION:Harrisburg JCC  Mary Sachs Auditorium\, 3301 North Front Street \, Harrisburg\, PA\, 17110\, United States
END:VEVENT
END:VCALENDAR