BEGIN:VCALENDAR
VERSION:2.0
PRODID:-//Jewish  Foundation - ECPv5.14.1//NONSGML v1.0//EN
CALSCALE:GREGORIAN
METHOD:PUBLISH
X-WR-CALNAME:Jewish  Foundation
X-ORIGINAL-URL:https://pajewishendowment.org/en
X-WR-CALDESC:Events for Jewish  Foundation
BEGIN:VTIMEZONE
TZID:UTC
BEGIN:STANDARD
TZOFFSETFROM:+0000
TZOFFSETTO:+0000
TZNAME:UTC
DTSTART:20190101T000000
END:STANDARD
END:VTIMEZONE
BEGIN:VEVENT
DTSTART;TZID=UTC:20191117T093000
DTEND;TZID=UTC:20191117T170000
DTSTAMP:20260424T195240
CREATED:20190926T170540Z
LAST-MODIFIED:20190926T170540Z
UID:1985-1573983000-1574010000@pajewishendowment.org
SUMMARY:Brunch Cinema Sunday Brunch While Watching 93Queen
DESCRIPTION:
URL:https://pajewishendowment.org/en/event/brunch-cinema-sunday-brunch-while-watching-93queen/
LOCATION:Jewish Community Center\, 3211 N. Front Street\, Harrisburg\, PA\, 17110\, United States
END:VEVENT
END:VCALENDAR