BEGIN:VCALENDAR
VERSION:2.0
PRODID:-//Jewish  Foundation - ECPv5.14.1//NONSGML v1.0//EN
CALSCALE:GREGORIAN
METHOD:PUBLISH
X-WR-CALNAME:Jewish  Foundation
X-ORIGINAL-URL:https://pajewishendowment.org/en
X-WR-CALDESC:Events for Jewish  Foundation
BEGIN:VTIMEZONE
TZID:UTC
BEGIN:STANDARD
TZOFFSETFROM:+0000
TZOFFSETTO:+0000
TZNAME:UTC
DTSTART:20180101T000000
END:STANDARD
END:VTIMEZONE
BEGIN:VEVENT
DTSTART;VALUE=DATE:20180412
DTEND;VALUE=DATE:20180413
DTSTAMP:20260425T111502
CREATED:20180222T200120Z
LAST-MODIFIED:20180222T201558Z
UID:1520-1523491200-1523577599@pajewishendowment.org
SUMMARY:Holocaust Remembrance Day 4-12-2018
DESCRIPTION:Holocaust Remembrance Day: 4/12/2018\n  \nDOWNLOAD JEWISH COMMUNITY FOUNDATION FLYER
URL:https://pajewishendowment.org/en/event/holocaust-remembrance-day-4-12-2018/
END:VEVENT
END:VCALENDAR