BEGIN:VCALENDAR
VERSION:2.0
PRODID:-//Jewish  Foundation - ECPv5.14.1//NONSGML v1.0//EN
CALSCALE:GREGORIAN
METHOD:PUBLISH
X-WR-CALNAME:Jewish  Foundation
X-ORIGINAL-URL:https://pajewishendowment.org/en
X-WR-CALDESC:Events for Jewish  Foundation
BEGIN:VTIMEZONE
TZID:UTC
BEGIN:STANDARD
TZOFFSETFROM:+0000
TZOFFSETTO:+0000
TZNAME:UTC
DTSTART:20170101T000000
END:STANDARD
END:VTIMEZONE
BEGIN:VEVENT
DTSTART;TZID=UTC:20170607T173000
DTEND;TZID=UTC:20170607T190000
DTSTAMP:20260425T133317
CREATED:20160712T220705Z
LAST-MODIFIED:20160712T220705Z
UID:1014-1496856600-1496862000@pajewishendowment.org
SUMMARY:Investment Committee
DESCRIPTION:•    ROOMS TBD AND WILL BE SENT ALONG WITH REMINDER MESSAGES\n•    PLEASE CALENDAR THESE DATES AND PLAN TO ATTEND \nTHANK YOU FOR YOUR SERVICE TO OUR COMMUNITY\nBY PARTICIPATING ON THESE IMPORTANT COMMITTEES!
URL:https://pajewishendowment.org/en/event/investment-committee/
LOCATION:Investment Committee\, 3301 N. Front Street \, Harrisburg\, PA\, 17110\, United States
END:VEVENT
END:VCALENDAR