BEGIN:VCALENDAR
VERSION:2.0
PRODID:-//Jewish  Foundation - ECPv5.14.1//NONSGML v1.0//EN
CALSCALE:GREGORIAN
METHOD:PUBLISH
X-WR-CALNAME:Jewish  Foundation
X-ORIGINAL-URL:https://pajewishendowment.org/en
X-WR-CALDESC:Events for Jewish  Foundation
BEGIN:VTIMEZONE
TZID:America/New_York
BEGIN:DAYLIGHT
TZOFFSETFROM:-0500
TZOFFSETTO:-0400
TZNAME:EDT
DTSTART:20140309T070000
END:DAYLIGHT
BEGIN:STANDARD
TZOFFSETFROM:-0400
TZOFFSETTO:-0500
TZNAME:EST
DTSTART:20141102T060000
END:STANDARD
END:VTIMEZONE
BEGIN:VEVENT
DTSTART;TZID=America/New_York:20141212T160000
DTEND;TZID=America/New_York:20141212T170000
DTSTAMP:20260425T064412
CREATED:20141212T072950Z
LAST-MODIFIED:20141212T072950Z
UID:285-1418400000-1418403600@pajewishendowment.org
SUMMARY:Leadership Harrisburg Mtg
DESCRIPTION:
URL:https://pajewishendowment.org/en/event/leadership-harrisburg-mtg/
LOCATION:Leadership Harrisburg Mtg JCC in the JCC Conference Room\, 3301 N Front Street\, Harrisburg\, PA\, 17110\, United States
END:VEVENT
END:VCALENDAR