BEGIN:VCALENDAR
VERSION:2.0
PRODID:-//Jewish  Foundation - ECPv5.14.1//NONSGML v1.0//EN
CALSCALE:GREGORIAN
METHOD:PUBLISH
X-WR-CALNAME:Jewish  Foundation
X-ORIGINAL-URL:https://pajewishendowment.org/en
X-WR-CALDESC:Events for Jewish  Foundation
BEGIN:VTIMEZONE
TZID:UTC
BEGIN:STANDARD
TZOFFSETFROM:+0000
TZOFFSETTO:+0000
TZNAME:UTC
DTSTART:20150101T000000
END:STANDARD
END:VTIMEZONE
BEGIN:VEVENT
DTSTART;TZID=UTC:20151021T180000
DTEND;TZID=UTC:20151021T180000
DTSTAMP:20260425T222243
CREATED:20151014T193409Z
LAST-MODIFIED:20151015T212820Z
UID:663-1445450400-1445450400@pajewishendowment.org
SUMMARY:Life & Legacy Launch
DESCRIPTION:Life & Legacy Launch ~ October 21 @ 6:00PM
URL:https://pajewishendowment.org/en/event/life-legacy-launch/
LOCATION:Life & Legacy Launch\, 3301 N. Front Street \, Harrisburg\, PA\, 17110\, United States
ATTACH;FMTTYPE=image/jpeg:https://pajewishendowment.org/wp-content/uploads/2015/10/life-legacy-logo.jpg
ORGANIZER;CN="JEWISH%20COMMUNITY%20FOUNDATION%20OF%20CENTRAL%20PA":MAILTO:info@pajewishendowment.org
END:VEVENT
END:VCALENDAR