BEGIN:VCALENDAR
VERSION:2.0
PRODID:-//Jewish  Foundation - ECPv5.14.1//NONSGML v1.0//EN
CALSCALE:GREGORIAN
METHOD:PUBLISH
X-WR-CALNAME:Jewish  Foundation
X-ORIGINAL-URL:https://pajewishendowment.org/en
X-WR-CALDESC:Events for Jewish  Foundation
BEGIN:VTIMEZONE
TZID:America/New_York
BEGIN:DAYLIGHT
TZOFFSETFROM:-0500
TZOFFSETTO:-0400
TZNAME:EDT
DTSTART:20140309T070000
END:DAYLIGHT
BEGIN:STANDARD
TZOFFSETFROM:-0400
TZOFFSETTO:-0500
TZNAME:EST
DTSTART:20141102T060000
END:STANDARD
END:VTIMEZONE
BEGIN:VEVENT
DTSTART;TZID=America/New_York:20141212T080000
DTEND;TZID=America/New_York:20141212T090000
DTSTAMP:20260425T064443
CREATED:20141212T072444Z
LAST-MODIFIED:20141212T072444Z
UID:282-1418371200-1418374800@pajewishendowment.org
SUMMARY:Personnel Committee Meeting
DESCRIPTION:JCC in the JCC Conference Room
URL:https://pajewishendowment.org/en/event/personnel-committee-meeting/
LOCATION:Personnel Committee Meeting JCC in the JCC Conference Room\, 3301 N Front Street\, Harrisburg\, PA\, 17110\, United States
END:VEVENT
END:VCALENDAR