BEGIN:VCALENDAR
VERSION:2.0
PRODID:-//Jewish  Foundation - ECPv5.14.1//NONSGML v1.0//EN
CALSCALE:GREGORIAN
METHOD:PUBLISH
X-WR-CALNAME:Jewish  Foundation
X-ORIGINAL-URL:https://pajewishendowment.org/en
X-WR-CALDESC:Events for Jewish  Foundation
BEGIN:VTIMEZONE
TZID:UTC
BEGIN:STANDARD
TZOFFSETFROM:+0000
TZOFFSETTO:+0000
TZNAME:UTC
DTSTART:20170101T000000
END:STANDARD
END:VTIMEZONE
BEGIN:VEVENT
DTSTART;TZID=UTC:20170601T060000
DTEND;TZID=UTC:20170601T060000
DTSTAMP:20260425T145207
CREATED:20160717T003537Z
LAST-MODIFIED:20160717T003537Z
UID:1038-1496296800-1496296800@pajewishendowment.org
SUMMARY:Shavout Offices closed
DESCRIPTION:Shavout Offices closed \nJune 2017\nThursday\, June 1
URL:https://pajewishendowment.org/en/event/shavout-offices-closed-2/
END:VEVENT
END:VCALENDAR